BEGIN:VCALENDAR
VERSION:2.0
PRODID:-//Tukios.com/
BEGIN:VEVENT
UID:11727a1b-acd2-4008-acf1-6ae520cf87ce@www.muellerfunerals.com
DTSTAMP:20260421T182825Z
DTSTART:20260423T163000Z
DTEND:20260423T173000Z
SUMMARY:Visitation
DESCRIPTION:
URL:https://www.muellerfunerals.com/obituaries/ann-hasselfeld
LOCATION: 6791 Tylersville Rd  Mason OH 45040
GEO:39.3513363;-84.3410154
END:VEVENT
END:VCALENDAR