BEGIN:VCALENDAR
VERSION:2.0
PRODID:-//Tukios.com/
BEGIN:VEVENT
UID:28fc7b34-b58f-405c-a082-33e6f20f151b@www.muellerfunerals.com
DTSTAMP:20260421T182328Z
DTSTART:20260423T173000Z
DTEND:20260423T183000Z
SUMMARY:Funeral Service
DESCRIPTION:
URL:https://www.muellerfunerals.com/obituaries/ann-hasselfeld
LOCATION:Mueller Funeral Home 6791 Tylersville Road  Mason OH 45040
GEO:39.3513633;-84.3411193
END:VEVENT
END:VCALENDAR