BEGIN:VCALENDAR
VERSION:2.0
PRODID:-//Tukios.com/
BEGIN:VEVENT
UID:297c14f6-645b-41aa-888f-8991dd318df1@www.muellerfunerals.com
DTSTAMP:20260422T165438Z
DTSTART:20260424T160000Z
DTEND:20260424T170000Z
SUMMARY:Visitation
DESCRIPTION:
URL:https://www.muellerfunerals.com/obituaries/darrell-howard
LOCATION: 6791 Tylersville Rd  Mason OH 45040
GEO:39.3513363;-84.3410154
END:VEVENT
END:VCALENDAR