BEGIN:VCALENDAR
VERSION:2.0
PRODID:-//Tukios.com/
BEGIN:VEVENT
UID:07c0aed1-028b-4701-9f6f-d66e4d8ff3b3@www.muellerfunerals.com
DTSTAMP:20260422T165438Z
DTSTART:20260424T170000Z
DTEND:20260424T180000Z
SUMMARY:Funeral Service
DESCRIPTION:
URL:https://www.muellerfunerals.com/obituaries/darrell-howard
LOCATION: 6791 Tylersville Rd  Mason OH 45040
GEO:39.3513363;-84.3410154
END:VEVENT
END:VCALENDAR