BEGIN:VCALENDAR
VERSION:2.0
PRODID:-//Tukios.com/
BEGIN:VEVENT
UID:bda5bb9a-a2ae-48f8-988b-4546e0669578@www.muellerfunerals.com
DTSTAMP:20260422T165136Z
DTSTART:20260424T174500Z
DTEND:20260424T184500Z
SUMMARY:Graveside Service
DESCRIPTION:
URL:https://www.muellerfunerals.com/obituaries/darrell-howard
LOCATION: 171 Mason Montgomery Road  Mason OH 45040
GEO:39.3561962;-84.3094713
END:VEVENT
END:VCALENDAR