BEGIN:VCALENDAR
VERSION:2.0
PRODID:-//Tukios.com/
BEGIN:VEVENT
UID:6bd9114c-ad76-4c94-ae1f-a1e5b439bb9a@www.muellerfunerals.com
DTSTAMP:20260426T023342Z
DTSTART:20260430T210000Z
DTEND:20260501T000000Z
SUMMARY:Memorial Gathering
DESCRIPTION:
URL:https://www.muellerfunerals.com/obituaries/james-white
LOCATION: 6791 Tylersville Rd  Mason OH 45040
GEO:39.3513363;-84.3410154
END:VEVENT
END:VCALENDAR