BEGIN:VCALENDAR
VERSION:2.0
PRODID:-//Tukios.com/
BEGIN:VEVENT
UID:38005803-acd0-4383-b802-46206a87c10e@www.muellerfunerals.com
DTSTAMP:20260421T084958Z
DTSTART:20260420T140000Z
DTEND:20260420T150000Z
SUMMARY:Visitation
DESCRIPTION:
URL:https://www.muellerfunerals.com/obituaries/jo-komanecky
LOCATION: 616 Reading Road  Mason OH 45040
GEO:39.3532387;-84.3173229
END:VEVENT
END:VCALENDAR