BEGIN:VCALENDAR
VERSION:2.0
PRODID:-//Tukios.com/
BEGIN:VEVENT
UID:a060842f-774a-426e-980f-c24d377cfbe2@www.muellerfunerals.com
DTSTAMP:20260421T084635Z
DTSTART:20260420T150000Z
DTEND:20260420T160000Z
SUMMARY:Mass
DESCRIPTION:
URL:https://www.muellerfunerals.com/obituaries/jo-komanecky
LOCATION: 616 Reading Road  Mason OH 45040
GEO:39.3532387;-84.3173229
END:VEVENT
END:VCALENDAR