BEGIN:VCALENDAR
VERSION:2.0
PRODID:-//Tukios.com/
BEGIN:VEVENT
UID:a9c7f60d-dae2-4383-b01d-32792bb35d78@www.muellerfunerals.com
DTSTAMP:20260424T231458Z
DTSTART:20260501T170000Z
DTEND:20260501T180000Z
SUMMARY:Memorial Service
DESCRIPTION:
URL:https://www.muellerfunerals.com/obituaries/mary-chaney
LOCATION:Mueller Funeral Home 6791 Tylersville Road  Mason OH 45040
GEO:39.3513633;-84.3411193
END:VEVENT
END:VCALENDAR