BEGIN:VCALENDAR
VERSION:2.0
PRODID:-//Tukios.com/
BEGIN:VEVENT
UID:e5676978-016b-4dfa-bcd0-ff2f2011f487@www.muellerfunerals.com
DTSTAMP:20260422T185211Z
DTSTART:20260511T220000Z
DTEND:20260512T000000Z
SUMMARY:Visitation
DESCRIPTION:
URL:https://www.muellerfunerals.com/obituaries/morton-steele
LOCATION: 6791 Tylersville Rd  Mason OH 45040
GEO:39.3513363;-84.3410154
END:VEVENT
END:VCALENDAR