BEGIN:VCALENDAR
VERSION:2.0
PRODID:-//Tukios.com/
BEGIN:VEVENT
UID:7236dbd8-71e6-4e48-ba70-0153ecc810db@www.muellerfunerals.com
DTSTAMP:20260422T184732Z
DTSTART:20260512T150000Z
DTEND:20260512T160000Z
SUMMARY:Mass
DESCRIPTION:
URL:https://www.muellerfunerals.com/obituaries/morton-steele
LOCATION: 616 Reading Road  Mason OH 45040
GEO:39.3532387;-84.3173229
END:VEVENT
END:VCALENDAR